BEGIN:VCALENDAR
VERSION:2.0
PRODID:-// - ECPv6.15.20//NONSGML v1.0//EN
CALSCALE:GREGORIAN
METHOD:PUBLISH
X-ORIGINAL-URL:https://alotz.nl
X-WR-CALDESC:Evenementen voor 
REFRESH-INTERVAL;VALUE=DURATION:PT1H
X-Robots-Tag:noindex
X-PUBLISHED-TTL:PT1H
BEGIN:VTIMEZONE
TZID:Europe/Amsterdam
BEGIN:DAYLIGHT
TZOFFSETFROM:+0100
TZOFFSETTO:+0200
TZNAME:CEST
DTSTART:20220327T010000
END:DAYLIGHT
BEGIN:STANDARD
TZOFFSETFROM:+0200
TZOFFSETTO:+0100
TZNAME:CET
DTSTART:20221030T010000
END:STANDARD
BEGIN:DAYLIGHT
TZOFFSETFROM:+0100
TZOFFSETTO:+0200
TZNAME:CEST
DTSTART:20230326T010000
END:DAYLIGHT
BEGIN:STANDARD
TZOFFSETFROM:+0200
TZOFFSETTO:+0100
TZNAME:CET
DTSTART:20231029T010000
END:STANDARD
BEGIN:DAYLIGHT
TZOFFSETFROM:+0100
TZOFFSETTO:+0200
TZNAME:CEST
DTSTART:20240331T010000
END:DAYLIGHT
BEGIN:STANDARD
TZOFFSETFROM:+0200
TZOFFSETTO:+0100
TZNAME:CET
DTSTART:20241027T010000
END:STANDARD
END:VTIMEZONE
BEGIN:VEVENT
DTSTART;VALUE=DATE:20230424
DTEND;VALUE=DATE:20230506
DTSTAMP:20260423T154708
CREATED:20230111T191714Z
LAST-MODIFIED:20230111T191714Z
UID:1208-1682294400-1683331199@alotz.nl
SUMMARY:Mei vakantie 24 04 2023 tm 05 05 2023
DESCRIPTION:Mei vakantie
URL:https://alotz.nl/event/mei-vakantie-24-04-2023-tm-05-05-2023/
END:VEVENT
BEGIN:VEVENT
DTSTART;TZID=Europe/Amsterdam:20230507T110000
DTEND;TZID=Europe/Amsterdam:20230507T163000
DTSTAMP:20260423T154708
CREATED:20230404T091024Z
LAST-MODIFIED:20230417T141731Z
UID:1866-1683457200-1683477000@alotz.nl
SUMMARY:Business Tag Kleve 7 mai 2023
DESCRIPTION:Business Tag Deutschland.\nDieser Tag zur Unternehmen Präsentation erklärt das einzigartige Konzept von Beyuna und seine vielen Vorteile.\nSpecial Guest: Paul Gebbink \n(Nicht in Weeze aber in Kleve!) \nAnmeltung: \n\n\n  \n\n\n\n Ihre Name *\n \n \n Ihre E-mail Adresse *\n \n \n Ihre Telefonnummer *\n \n \nDatum *\n7 Mai 202318 Juni 202327 August 2023\n \n Platz für die Bearbeitung\n \n \n\n Δ
URL:https://alotz.nl/event/business-tag-kleve-7-mai-2023/
LOCATION:Team Tisch Kleve\, Stechbahn 45\, Kleve\, 47533
END:VEVENT
BEGIN:VEVENT
DTSTART;TZID=Europe/Amsterdam:20230512T100000
DTEND;TZID=Europe/Amsterdam:20230512T111500
DTSTAMP:20260423T154708
CREATED:20230422T124506Z
LAST-MODIFIED:20230422T124506Z
UID:1988-1683885600-1683890100@alotz.nl
SUMMARY:Webinar: Weet wat je eet 12-05-2023
DESCRIPTION:Sommige mensen denken…. “als het in de supermarkt\, drogist\, apotheek\, parfumerie of  andere winkel verkocht mag worden… dan zal het wel goed zijn.” \nHelaas is dat vaak niet het geval. We zien door de bomen het bos niet meer\, omdat er veel te veel keuze is en sommige marketing campagnes zijn goed opgezet maar niet eerlijk. \nIk werk met 100% pure natuurlijke supplementen zonder synthetische additieven of hulpstoffen en voeding.  Op een holistische manier naar een gezonde leefstijl. \nBij dit webinar ga ik er dieper op in. Meld je hieronder aan en je krijgt 30 min. voor aanvang een Zoom link via de email toegestuurd. \n\n\n  \n\n\n\n Uw naam *\n \n \n Uw e-mail adres *\n \n \n Uw telefoonnummer *\n \n \n Datum webinar *\n \n \n ruimte voor een extra bericht\n \n \nKlik hier als je akkoord gaat met de AVG wet\, privacy en algemene voorwaarden\n \n\n Δ
URL:https://alotz.nl/event/webinar-weet-wat-je-eet-12-05-2023/
LOCATION:Online\, Nederland
END:VEVENT
BEGIN:VEVENT
DTSTART;TZID=Europe/Amsterdam:20230517T193000
DTEND;TZID=Europe/Amsterdam:20230517T204500
DTSTAMP:20260423T154708
CREATED:20230422T124725Z
LAST-MODIFIED:20230517T071621Z
UID:1990-1684351800-1684356300@alotz.nl
SUMMARY:Webinar: Weet wat je eet 17-05-2023
DESCRIPTION:Sommige mensen denken…. “als het in de supermarkt\, drogist\, apotheek\, parfumerie of  andere winkel verkocht mag worden… dan zal het wel goed zijn.” \nHelaas is dat vaak niet het geval. We zien door de bomen het bos niet meer\, omdat er veel te veel keuze is en sommige marketing campagnes zijn goed opgezet maar niet eerlijk. \nIk werk met 100% pure natuurlijke supplementen zonder synthetische additieven of hulpstoffen en voeding.  Op een holistische manier naar een gezonde leefstijl. \nBij dit webinar ga ik er dieper op in. Meld je hieronder aan en je krijgt 30 min. voor aanvang een Zoom link via de email toegestuurd. \n\n\n  \n\n\n\n Uw naam *\n \n \n Uw e-mail adres *\n \n \n Uw telefoonnummer *\n \n \n Datum webinar *\n \n \n ruimte voor een extra bericht\n \n \nKlik hier als je akkoord gaat met de AVG wet\, privacy en algemene voorwaarden\n \n\n Δ
URL:https://alotz.nl/event/webinar-weet-wat-je-eet-17-05-2023/
LOCATION:Online\, Nederland
ATTACH;FMTTYPE=image/png:https://alotz.nl/wp-content/uploads/2022/03/Weet-wat-je-eet-neutraal.png
END:VEVENT
END:VCALENDAR