BEGIN:VCALENDAR
VERSION:2.0
PRODID:-// - ECPv6.15.20//NONSGML v1.0//EN
CALSCALE:GREGORIAN
METHOD:PUBLISH
X-ORIGINAL-URL:https://alotz.nl
X-WR-CALDESC:Evenementen voor 
REFRESH-INTERVAL;VALUE=DURATION:PT1H
X-Robots-Tag:noindex
X-PUBLISHED-TTL:PT1H
BEGIN:VTIMEZONE
TZID:Europe/Amsterdam
BEGIN:DAYLIGHT
TZOFFSETFROM:+0100
TZOFFSETTO:+0200
TZNAME:CEST
DTSTART:20220327T010000
END:DAYLIGHT
BEGIN:STANDARD
TZOFFSETFROM:+0200
TZOFFSETTO:+0100
TZNAME:CET
DTSTART:20221030T010000
END:STANDARD
BEGIN:DAYLIGHT
TZOFFSETFROM:+0100
TZOFFSETTO:+0200
TZNAME:CEST
DTSTART:20230326T010000
END:DAYLIGHT
BEGIN:STANDARD
TZOFFSETFROM:+0200
TZOFFSETTO:+0100
TZNAME:CET
DTSTART:20231029T010000
END:STANDARD
BEGIN:DAYLIGHT
TZOFFSETFROM:+0100
TZOFFSETTO:+0200
TZNAME:CEST
DTSTART:20240331T010000
END:DAYLIGHT
BEGIN:STANDARD
TZOFFSETFROM:+0200
TZOFFSETTO:+0100
TZNAME:CET
DTSTART:20241027T010000
END:STANDARD
END:VTIMEZONE
BEGIN:VEVENT
DTSTART;VALUE=DATE:20230716
DTEND;VALUE=DATE:20230828
DTSTAMP:20260423T115245
CREATED:20230602T120725Z
LAST-MODIFIED:20230815T150040Z
UID:2359-1689465600-1693180799@alotz.nl
SUMMARY:Zomervakantie :-)
DESCRIPTION:Zomervakantie t/m 27 augustus 2023 \nRelax en geniet 😎💚🍀 \n  \n  \nBij dringende vragen stuur een bericht naar: +31 (0)6 20 880 589 of mail naar info@Alotz.nl
URL:https://alotz.nl/event/zomervakantie/
END:VEVENT
BEGIN:VEVENT
DTSTART;TZID=Europe/Amsterdam:20230827T110000
DTEND;TZID=Europe/Amsterdam:20230827T163000
DTSTAMP:20260423T115245
CREATED:20230817T090908Z
LAST-MODIFIED:20230817T090908Z
UID:2435-1693134000-1693153800@alotz.nl
SUMMARY:Business Tag Weeze 27 august 2023
DESCRIPTION:Business Tag Weeze.\nDieser Tag zur Unternehmen Präsentation erklärt das einzigartige Konzept von Beyuna und seine vielen Vorteile. \nAnmeltung: \n\n\n  \n\n\n\n Ihre Name *\n \n \n Ihre E-mail Adresse *\n \n \n Ihre Telefonnummer *\n \n \nDatum *\n7 Mai 202318 Juni 202327 August 2023\n \n Platz für die Bearbeitung\n \n \n\n Δ
URL:https://alotz.nl/event/business-tag-weeze-27-august-2023/
LOCATION:Alte Schmiede\, Wasserstrasse 7\, Weeze\, 47652\, Duitsland
END:VEVENT
END:VCALENDAR