BEGIN:VCALENDAR
VERSION:2.0
PRODID:-// - ECPv6.15.20//NONSGML v1.0//EN
CALSCALE:GREGORIAN
METHOD:PUBLISH
X-ORIGINAL-URL:https://alotz.nl
X-WR-CALDESC:Evenementen voor 
REFRESH-INTERVAL;VALUE=DURATION:PT1H
X-Robots-Tag:noindex
X-PUBLISHED-TTL:PT1H
BEGIN:VTIMEZONE
TZID:Europe/Amsterdam
BEGIN:DAYLIGHT
TZOFFSETFROM:+0100
TZOFFSETTO:+0200
TZNAME:CEST
DTSTART:20250330T010000
END:DAYLIGHT
BEGIN:STANDARD
TZOFFSETFROM:+0200
TZOFFSETTO:+0100
TZNAME:CET
DTSTART:20251026T010000
END:STANDARD
BEGIN:DAYLIGHT
TZOFFSETFROM:+0100
TZOFFSETTO:+0200
TZNAME:CEST
DTSTART:20260329T010000
END:DAYLIGHT
BEGIN:STANDARD
TZOFFSETFROM:+0200
TZOFFSETTO:+0100
TZNAME:CET
DTSTART:20261025T010000
END:STANDARD
BEGIN:DAYLIGHT
TZOFFSETFROM:+0100
TZOFFSETTO:+0200
TZNAME:CEST
DTSTART:20270328T010000
END:DAYLIGHT
BEGIN:STANDARD
TZOFFSETFROM:+0200
TZOFFSETTO:+0100
TZNAME:CET
DTSTART:20271031T010000
END:STANDARD
END:VTIMEZONE
BEGIN:VEVENT
DTSTART;TZID=Europe/Amsterdam:20260321T100000
DTEND;TZID=Europe/Amsterdam:20260321T130000
DTSTAMP:20260423T141108
CREATED:20260317T110829Z
LAST-MODIFIED:20260317T110829Z
UID:6133-1774087200-1774098000@alotz.nl
SUMMARY:Weet wat je eet
DESCRIPTION:Presentatie in Utrecht. (Beyuna Academy) \nWeet jij wat je eet? Welke additieven zitten er in onze voeding- en supplementen? Welke verschillen zijn er in supplementen? Wat doen vitaminen\, mineralen en sporenelementen in het lichaam? \nAanmelding verplicht kan tot vrijdag 20 maart 2026 15:00. \nVoornaam *Achternaam *E-mailadres *Telefoonnummer *Bericht \, vraag\, opmerking *0 / 2000Upload bestand medische gegevensVerslepen en neerzetten (of) kies bestanden Verplicht *Ja\, ik ga akkoord met het privacybeleid en de voorwaarden en condities.Bericht verzendenOpslaan als conceptVoer dit veld niet in.
URL:https://alotz.nl/event/weet-wat-je-eet/
CATEGORIES:Weet wat je eet & Business
END:VEVENT
BEGIN:VEVENT
DTSTART;TZID=Europe/Amsterdam:20260322T103000
DTEND;TZID=Europe/Amsterdam:20260322T120000
DTSTAMP:20260423T141108
CREATED:20260317T111904Z
LAST-MODIFIED:20260317T112251Z
UID:6135-1774175400-1774180800@alotz.nl
SUMMARY:Bootcamp Job2Move
DESCRIPTION:Doe jij ook mee?\nMeld je aan via https://job2move.nl/contact
URL:https://alotz.nl/event/bootcamp-job2move/
LOCATION:Bootcamp Vendelweg\, Vendelweg 3a\, Nistelrode
ATTACH;FMTTYPE=image/jpeg:https://alotz.nl/wp-content/uploads/2026/03/WhatsApp-Image-2026-03-17-at-12.11.44.jpeg
END:VEVENT
BEGIN:VEVENT
DTSTART;TZID=Europe/Amsterdam:20260330T080000
DTEND;TZID=Europe/Amsterdam:20260403T170000
DTSTAMP:20260423T141108
CREATED:20260317T110127Z
LAST-MODIFIED:20260317T110205Z
UID:6131-1774857600-1775235600@alotz.nl
SUMMARY:Week van de Teek 2026
DESCRIPTION:Meld je aan voor het online spreekuur.\nWoensdag 1 april 9:30-10:30 \nVoornaam *Achternaam *E-mailadres *Telefoonnummer *Bericht \, vraag\, opmerking *0 / 2000Verplicht *Ja\, ik ga akkoord met het privacybeleid en de voorwaarden en condities.Bericht verzendenOpslaan als conceptVoer dit veld niet in.
URL:https://alotz.nl/event/week-van-de-teek-2026/
CATEGORIES:Lyme
ATTACH;FMTTYPE=image/png:https://alotz.nl/wp-content/uploads/2026/03/Scherm­afbeelding-2026-03-17-om-11.44.58.png
END:VEVENT
END:VCALENDAR